BEGIN:VCALENDAR
VERSION:2.0
PRODID:-//Portsmouth Fabric Co - ECPv4.6.22//NONSGML v1.0//EN
CALSCALE:GREGORIAN
METHOD:PUBLISH
X-WR-CALNAME:Portsmouth Fabric Co
X-ORIGINAL-URL:https://portsmouthfabric.com
X-WR-CALDESC:Events for Portsmouth Fabric Co
BEGIN:VEVENT
DTSTART;TZID=America/New_York:20250101T100000
DTEND;TZID=America/New_York:20250101T170000
DTSTAMP:20260423T162835
CREATED:20241202T150150Z
LAST-MODIFIED:20241202T150938Z
UID:80085-1735725600-1735750800@portsmouthfabric.com
SUMMARY:HAPPY NEW YEAR! CLOSED
DESCRIPTION:YEAR END CLEARANCE SALE.  FABRICS UP TO 70% OFF. \nALL BERNINA SEWING MACHINES ON SALE.  \n \n
URL:https://portsmouthfabric.com/event/year-end-clearance-sale-2-2024-12-27-2025-01-01/
ATTACH;FMTTYPE=image/jpeg:https://portsmouthfabric.com/wp-content/uploads/RP616CR4.jpg
END:VEVENT
END:VCALENDAR