BEGIN:VCALENDAR
VERSION:2.0
PRODID:-//Portsmouth Fabric Co - ECPv4.6.22//NONSGML v1.0//EN
CALSCALE:GREGORIAN
METHOD:PUBLISH
X-WR-CALNAME:Portsmouth Fabric Co
X-ORIGINAL-URL:https://portsmouthfabric.com
X-WR-CALDESC:Events for Portsmouth Fabric Co
BEGIN:VEVENT
DTSTART;TZID=America/New_York:20260314T133000
DTEND;TZID=America/New_York:20260314T150000
DTSTAMP:20260422T092248
CREATED:20260221T002805Z
LAST-MODIFIED:20260221T004829Z
UID:86117-1773495000-1773500400@portsmouthfabric.com
SUMMARY:TRY BEFORE YOU BUY BERNINA Q SERIES LONGARM MACHINE CLASS FREE CLASS
DESCRIPTION:Have you been wanting to try out a longarm machine\, but have not found the right opportunity? This is the class for you! We have the BERNINA Q24 set up on a professional frame ready for you to test drive. We have the BERNINA Q20 set up on the studio frame also ready for you to give it a try. We also have have the Q16 set up on the Horn Lift table for the sit down or stand up option. You will experience the smooth operation of the BERNINA Q Series machines on all three models or you may spend all your time playing on the machine that feels right for you. We have an optional bundle of special savings through out the month of March and 0% Financing for 60 Months from 3/10-3/14 only with the BERNINA CREDIT CARD (apply here) . PREREGISTRATION REQUIRED ~ CLASS SIZE LIMITED ~ PLEASE CALL OR SIGN UP ONLINE TO REGISTER (603-436-6343.)   \n \n
URL:https://portsmouthfabric.com/event/try-before-you-buy-bernina-q-series-longarm-machine-class-free-class/
LOCATION:Portsmouth Fabric Company
CATEGORIES:Bernina,Class,Quilting
ATTACH;FMTTYPE=image/jpeg:https://portsmouthfabric.com/wp-content/uploads/Long_Arm_with_quilt_frame_and_blue_quilt-1-1.jpg
END:VEVENT
END:VCALENDAR