BEGIN:VCALENDAR
VERSION:2.0
PRODID:-//Portsmouth Fabric Co - ECPv4.6.22//NONSGML v1.0//EN
CALSCALE:GREGORIAN
METHOD:PUBLISH
X-WR-CALNAME:Portsmouth Fabric Co
X-ORIGINAL-URL:https://portsmouthfabric.com
X-WR-CALDESC:Events for Portsmouth Fabric Co
BEGIN:VEVENT
DTSTART;TZID=America/New_York:20260418T100000
DTEND;TZID=America/New_York:20260418T123000
DTSTAMP:20260425T140825
CREATED:20260223T034147Z
LAST-MODIFIED:20260413T142911Z
UID:86177-1776506400-1776515400@portsmouthfabric.com
SUMMARY:SERGER BASICS  FULL\, WAITLIST ONLY
DESCRIPTION:Whether you are new to a serger or afraid of your serger\, this class is for you. Students will learn basic serger operations- threading\, using stitch length and differential feed\, various serger stitches (3 thread overlock\, rolled hem\, etc) and problem solving. Any brand serger welcome. This class is a guide class offered for FREE to anyone who has purchased their serger from Portsmouth Fabric Company. Use your new skills to make the Lark T-Shirt\, Concord T-Shirt or any simple T-Shirt pattern of your choosing in the afternoon after this class! Class preparation will be emailed at registration. \n \n
URL:https://portsmouthfabric.com/event/serger-basics-9/
LOCATION:Portsmouth Fabric Company
CATEGORIES:Bernina,Class,Sewing
ATTACH;FMTTYPE=image/png:https://portsmouthfabric.com/wp-content/uploads/L890Angled-copy-1.png
END:VEVENT
END:VCALENDAR