BEGIN:VCALENDAR
VERSION:2.0
PRODID:-//Portsmouth Fabric Co - ECPv4.6.22//NONSGML v1.0//EN
CALSCALE:GREGORIAN
METHOD:PUBLISH
X-WR-CALNAME:Portsmouth Fabric Co
X-ORIGINAL-URL:https://portsmouthfabric.com
X-WR-CALDESC:Events for Portsmouth Fabric Co
BEGIN:VEVENT
DTSTART;TZID=America/New_York:20230614T100000
DTEND;TZID=America/New_York:20230614T123000
DTSTAMP:20260421T103040
CREATED:20230804T165130Z
LAST-MODIFIED:20230804T165554Z
UID:72309-1686736800-1686745800@portsmouthfabric.com
SUMMARY:OPEN QUILT STUDIO FULL
DESCRIPTION:Open Quilt Studio is for experienced quilters to learn new techniques and share new projects while enjoying the camaraderie of other quilters. If you are interested\, please email pfc@portsmouthfabric.com for more details. \n \n \n
URL:https://portsmouthfabric.com/event/open-quilt-studio-full-2023-06-21/
ATTACH;FMTTYPE=image/jpeg:https://portsmouthfabric.com/wp-content/uploads/OQSquilt-2.jpeg
END:VEVENT
END:VCALENDAR