BEGIN:VCALENDAR
VERSION:2.0
PRODID:-//Portsmouth Fabric Co - ECPv4.6.22//NONSGML v1.0//EN
CALSCALE:GREGORIAN
METHOD:PUBLISH
X-WR-CALNAME:Portsmouth Fabric Co
X-ORIGINAL-URL:https://portsmouthfabric.com
X-WR-CALDESC:Events for Portsmouth Fabric Co
BEGIN:VEVENT
DTSTART;TZID=America/New_York:20260430T130000
DTEND;TZID=America/New_York:20260430T153000
DTSTAMP:20260425T171456
CREATED:20260223T044022Z
LAST-MODIFIED:20260223T044022Z
UID:86218-1777554000-1777563000@portsmouthfabric.com
SUMMARY:OPEN GARMENT STUDIO
DESCRIPTION:Having trouble reading garment patterns? Do garment pattern layouts prevent you from cutting into fabric? Want to make sure the garment pattern will fit you correctly? Then OPEN GARMENT STUDIO is for you. Bring a new garment project that you want help with or one that you are working on. This class will give you confidence to move forward and enjoy garment making. Sign up for individual classes by 5pm the Tuesday before class. BERNINA sewing machines and sergers available in the classroom. The Sewing Workshop patterns are popular along with Grainline Studio. Made By Rae\, Sew House Seven and more! \n \n
URL:https://portsmouthfabric.com/event/open-garment-studio-71/
LOCATION:Portsmouth Fabric Company
CATEGORIES:Class,Sewing
ATTACH;FMTTYPE=image/jpeg:https://portsmouthfabric.com/wp-content/uploads/PP062-1.jpeg
END:VEVENT
END:VCALENDAR