BEGIN:VCALENDAR
VERSION:2.0
PRODID:-//Portsmouth Fabric Co - ECPv4.6.22//NONSGML v1.0//EN
CALSCALE:GREGORIAN
METHOD:PUBLISH
X-WR-CALNAME:Portsmouth Fabric Co
X-ORIGINAL-URL:https://portsmouthfabric.com
X-WR-CALDESC:Events for Portsmouth Fabric Co
BEGIN:VEVENT
DTSTART;TZID=America/New_York:20230405T130000
DTEND;TZID=America/New_York:20230405T153000
DTSTAMP:20260421T095941
CREATED:20230326T231642Z
LAST-MODIFIED:20230326T232903Z
UID:70213-1680699600-1680708600@portsmouthfabric.com
SUMMARY:OPEN GARMENT STUDIO
DESCRIPTION:Having trouble reading garment patterns? Do garment pattern layouts prevent you from cutting into fabric? Want to make sure the garment pattern will fit you correctly? Then OPEN GARMENT STUDIO is for you. Bring a new garment project that you want help with or one you are working on. This class will give you confidence to move forward and enjoy garment making. Sign up for individual classes by 5pm the Tuesday before class. BERNINA sewing machines and sergers available in the classroom. Please call to register for class. Ticket system is not working for this class. \nSome popular garment pattern suggestions from The Sewing Workshop. More garment patterns available. \n
URL:https://portsmouthfabric.com/event/open-garment-studio-3/
CATEGORIES:Class,Sewing
ATTACH;FMTTYPE=image/jpeg:https://portsmouthfabric.com/wp-content/uploads/PP076.jpg
END:VEVENT
END:VCALENDAR