BEGIN:VCALENDAR
VERSION:2.0
PRODID:-//Portsmouth Fabric Co - ECPv4.6.22//NONSGML v1.0//EN
CALSCALE:GREGORIAN
METHOD:PUBLISH
X-WR-CALNAME:Portsmouth Fabric Co
X-ORIGINAL-URL:https://portsmouthfabric.com
X-WR-CALDESC:Events for Portsmouth Fabric Co
BEGIN:VEVENT
DTSTART;TZID=America/New_York:20240801T103000
DTEND;TZID=America/New_York:20240801T120000
DTSTAMP:20260420T014201
CREATED:20240627T222723Z
LAST-MODIFIED:20240627T222947Z
UID:77460-1722508200-1722513600@portsmouthfabric.com
SUMMARY:OPEN EMBROIDERY STUDIO
DESCRIPTION:In OPEN EMBROIDERY STUDIO students will learn how to master embroidery with tips and tricks that make it fun. Bring a project that you want help with or enjoy one of our new designs. This class is a lecture/demo so you do not need to bring your machines.\nLearn about different stabilizers\, hoops (including the Small and Medium Clamp Embroidery Hoops\,) threads and placement tips.. The class size is limited\, please register by 5:00pm Tuesday before class. Fee $10\, free if embroidery module purchased from PFC. \nOESD DESIGNS   \nTAPESTRY PINCUSTIONS #PK10042 \n \n
URL:https://portsmouthfabric.com/event/open-embroidery-studio-15/
LOCATION:Portsmouth Fabric Co\, 112 Penhallow St\, Portsmouth\, NH\, 03801\, United States
GEO:43.0777551;-70.75667
X-APPLE-STRUCTURED-LOCATION;VALUE=URI;X-ADDRESS=Portsmouth Fabric Co 112 Penhallow St Portsmouth NH 03801 United States;X-APPLE-RADIUS=500;X-TITLE=112 Penhallow St:geo:-70.75667,43.0777551
CATEGORIES:Bernina,Class,Embroidery
ATTACH;FMTTYPE=image/jpeg:https://portsmouthfabric.com/wp-content/uploads/PK10042__20748-1.jpeg
END:VEVENT
END:VCALENDAR