BEGIN:VCALENDAR
VERSION:2.0
PRODID:-//Portsmouth Fabric Co - ECPv4.6.22//NONSGML v1.0//EN
CALSCALE:GREGORIAN
METHOD:PUBLISH
X-WR-CALNAME:Portsmouth Fabric Co
X-ORIGINAL-URL:https://portsmouthfabric.com
X-WR-CALDESC:Events for Portsmouth Fabric Co
BEGIN:VEVENT
DTSTART;TZID=America/New_York:20250524T123000
DTEND;TZID=America/New_York:20250524T163000
DTSTAMP:20260422T053027
CREATED:20250304T183230Z
LAST-MODIFIED:20250406T133635Z
UID:81779-1748089800-1748104200@portsmouthfabric.com
SUMMARY:NOODLEHEAD PLOVER POUCH
DESCRIPTION:Enjoy making this new fun zippered pouch from Noodlehead\, the Plover Pouch\, that you are sure to love using! Three sizes to sew! All sizes have an interior dividable mesh pocket that is perfect for keeping everything organized. Medium and Large sizes include an interior zippered pocket. \nFeatures: \n\nthree sizes to sew!\ninterior mesh pocket \nMedium and Large sizes have an interior zippered pocket\, too!\n\n  \n
URL:https://portsmouthfabric.com/event/noodlehead-plover-pouch/
LOCATION:Portsmouth Fabric Co\, 112 Penhallow St\, Portsmouth\, NH\, 03801\, United States
GEO:43.0777551;-70.75667
X-APPLE-STRUCTURED-LOCATION;VALUE=URI;X-ADDRESS=Portsmouth Fabric Co 112 Penhallow St Portsmouth NH 03801 United States;X-APPLE-RADIUS=500;X-TITLE=112 Penhallow St:geo:-70.75667,43.0777551
ATTACH;FMTTYPE=image/jpeg:https://portsmouthfabric.com/wp-content/uploads/AG-554.jpeg
END:VEVENT
END:VCALENDAR