BEGIN:VCALENDAR
VERSION:2.0
PRODID:-//Portsmouth Fabric Co - ECPv4.6.22//NONSGML v1.0//EN
CALSCALE:GREGORIAN
METHOD:PUBLISH
X-WR-CALNAME:Portsmouth Fabric Co
X-ORIGINAL-URL:https://portsmouthfabric.com
X-WR-CALDESC:Events for Portsmouth Fabric Co
BEGIN:VEVENT
DTSTART;TZID=America/New_York:20230714T100000
DTEND;TZID=America/New_York:20230714T130000
DTSTAMP:20260420T222109
CREATED:20230430T005222Z
LAST-MODIFIED:20230522T172818Z
UID:70815-1689328800-1689339600@portsmouthfabric.com
SUMMARY:KID’S SEW FUN CAMP
DESCRIPTION:Kids will have fun learning how to sew with Alex. She will be taking students through sewing exercises that improve their sewing skills as well as making hair scrunchies\, a cosmetic bag\, a pillow case and more! Ages 10 and up. Fee $140. Materials fee included in class fee\, sewing machines provided. Tuesday-Friday\, 10-1pm. Please call to register for class. Ticket system is not working for this class. \n
URL:https://portsmouthfabric.com/event/kids-sew-fun-camp-7/
CATEGORIES:Class,Sewing
ATTACH;FMTTYPE=image/jpeg:https://portsmouthfabric.com/wp-content/uploads/AMSEWFUNCAMPCOLLAGE-4.jpeg
END:VEVENT
END:VCALENDAR