BEGIN:VCALENDAR
VERSION:2.0
PRODID:-//Portsmouth Fabric Co - ECPv4.6.22//NONSGML v1.0//EN
CALSCALE:GREGORIAN
METHOD:PUBLISH
X-WR-CALNAME:Portsmouth Fabric Co
X-ORIGINAL-URL:https://portsmouthfabric.com
X-WR-CALDESC:Events for Portsmouth Fabric Co
BEGIN:VEVENT
DTSTART;TZID=America/New_York:20250525T120000
DTEND;TZID=America/New_York:20250525T170000
DTSTAMP:20260422T072808
CREATED:20250509T044643Z
LAST-MODIFIED:20250509T044643Z
UID:82483-1748174400-1748192400@portsmouthfabric.com
SUMMARY:HAPPY MEMORIAL DAY WEEKEND ~ CLOSED SUNDAY
DESCRIPTION:NEW TULA PINK FULL MOON FOREST ll COLLECTION AND TOTE BAG \n \n
URL:https://portsmouthfabric.com/event/happy-memorial-day-weekend-closed-sunday/
ATTACH;FMTTYPE=image/jpeg:https://portsmouthfabric.com/wp-content/uploads/FMF2SelvageLogo.jpeg
END:VEVENT
END:VCALENDAR