BEGIN:VCALENDAR
VERSION:2.0
PRODID:-//Portsmouth Fabric Co - ECPv4.6.22//NONSGML v1.0//EN
CALSCALE:GREGORIAN
METHOD:PUBLISH
X-WR-CALNAME:Portsmouth Fabric Co
X-ORIGINAL-URL:https://portsmouthfabric.com
X-WR-CALDESC:Events for Portsmouth Fabric Co
BEGIN:VEVENT
DTSTART;TZID=America/New_York:20240527T120000
DTEND;TZID=America/New_York:20240527T170000
DTSTAMP:20260422T124324
CREATED:20240523T162900Z
LAST-MODIFIED:20240523T163112Z
UID:76590-1716811200-1716829200@portsmouthfabric.com
SUMMARY:CLOSED SUNDAY BEFORE MEMORIAL DAY
DESCRIPTION:HAPPY MEMORIAL DAY WEEKEND! \n \nCHARLEY HARPER DISCOVERY PLACE HUNTER \n \n
URL:https://portsmouthfabric.com/event/closed-sunday-before-memorial-day/
ATTACH;FMTTYPE=image/jpeg:https://portsmouthfabric.com/wp-content/uploads/CH-361-2.jpeg
END:VEVENT
END:VCALENDAR