BEGIN:VCALENDAR
VERSION:2.0
PRODID:-//Portsmouth Fabric Co - ECPv4.6.22//NONSGML v1.0//EN
CALSCALE:GREGORIAN
METHOD:PUBLISH
X-WR-CALNAME:Portsmouth Fabric Co
X-ORIGINAL-URL:https://portsmouthfabric.com
X-WR-CALDESC:Events for Portsmouth Fabric Co
BEGIN:VEVENT
DTSTART;TZID=America/New_York:20230709T120000
DTEND;TZID=America/New_York:20230709T170000
DTSTAMP:20260420T141649
CREATED:20230627T213845Z
LAST-MODIFIED:20230628T025338Z
UID:71759-1688904000-1688922000@portsmouthfabric.com
SUMMARY:44TH ANNIVERSARY SALE
DESCRIPTION:44TH ANNIVERSARY SALE\nFABRICS UP TO 70% OFF\n\nSUPER SAVINGS ON ALL MACHINES!\nPLUS OUR 44TH ANNIVERSARY SALE SPECIAL ON LIMITED STOCK OF THE KAFFE 475 & THE KAFFE  770 PLUS\, & 770 PLUS E WITH FREE GIFTS: DUST COVER\, MACHINE TROLLEY (475) + KAFFE FABRIC BUNDLE (770PLUS) + EMBROIDERY BUNDLE\, MODULE BAG & 9 CREATOR EMBROIDERY SOFTWARE (770 PLUS E.)  ALL KAFFE MACHINE PURCHASES ALSO RECEIVE THE KAFFE HAT BOX QUILT KIT AND THE BIG BOOK OF FEET (Valuable resource for extensive information on all Bernina feet and their best application.) \n \n  \n\n
URL:https://portsmouthfabric.com/event/44th-aniversary-sale-2023-07-09/
CATEGORIES:Bernina,Sale
ATTACH;FMTTYPE=image/jpeg:https://portsmouthfabric.com/wp-content/uploads/SALELOGO1.jpg
END:VEVENT
END:VCALENDAR